BEGIN:VCALENDAR
VERSION:2.0
PRODID:-//Village of Galena - ECPv6.15.20//NONSGML v1.0//EN
CALSCALE:GREGORIAN
METHOD:PUBLISH
X-ORIGINAL-URL:https://galenaohio.gov
X-WR-CALDESC:Events for Village of Galena
REFRESH-INTERVAL;VALUE=DURATION:PT1H
X-Robots-Tag:noindex
X-PUBLISHED-TTL:PT1H
BEGIN:VTIMEZONE
TZID:America/New_York
BEGIN:DAYLIGHT
TZOFFSETFROM:-0500
TZOFFSETTO:-0400
TZNAME:EDT
DTSTART:20250309T070000
END:DAYLIGHT
BEGIN:STANDARD
TZOFFSETFROM:-0400
TZOFFSETTO:-0500
TZNAME:EST
DTSTART:20251102T060000
END:STANDARD
BEGIN:DAYLIGHT
TZOFFSETFROM:-0500
TZOFFSETTO:-0400
TZNAME:EDT
DTSTART:20260308T070000
END:DAYLIGHT
BEGIN:STANDARD
TZOFFSETFROM:-0400
TZOFFSETTO:-0500
TZNAME:EST
DTSTART:20261101T060000
END:STANDARD
BEGIN:DAYLIGHT
TZOFFSETFROM:-0500
TZOFFSETTO:-0400
TZNAME:EDT
DTSTART:20270314T070000
END:DAYLIGHT
BEGIN:STANDARD
TZOFFSETFROM:-0400
TZOFFSETTO:-0500
TZNAME:EST
DTSTART:20271107T060000
END:STANDARD
END:VTIMEZONE
BEGIN:VEVENT
DTSTART;TZID=America/New_York:20260218T190000
DTEND;TZID=America/New_York:20260218T210000
DTSTAMP:20260422T174707
CREATED:20251230T234446Z
LAST-MODIFIED:20260209T234545Z
UID:2320-1771441200-1771448400@galenaohio.gov
SUMMARY:Planning & Zoning Meeting- February 18\, 2026 (PUBLIC HEARING)
DESCRIPTION:ROLL CALL \nPUBLIC HEARING – 42 W. Columbus St \nGUEST COMMENTS \nAPPROVAL OF MINUTES \n\nJanuary 2026\n\nOTHER BUSINESS \n\n70 N. Walnut St\n\nZONING REPORT \nADJOURNMENT \n 
URL:https://galenaohio.gov/event/planning-zoning-meeting-february/
LOCATION:Village of Galena Town Hall\, 109 Harrison Street\, Galena\, Ohio\, 43021\, United States
CATEGORIES:Planning & Zoning Meeting
END:VEVENT
END:VCALENDAR